BEGIN:VCALENDAR
VERSION:2.0
PRODID:-//pretix//pretix.eu//
BEGIN:VEVENT
UID:pretix-plainschwarz-bbuzz24-0@tickets.plainschwarz.com
DTSTART;VALUE=DATE:20240609
DTEND;VALUE=DATE:20240612
DESCRIPTION:Tickets: https://tickets.plainschwarz.com/bbuzz24/\nOrganizer: 
 Plain Schwarz
DTSTAMP:20260425T034729Z
LOCATION:Kulturbrauerei Berlin\, Schönhauser Allee 36\, 10435 Berlin
SUMMARY:Berlin Buzzwords 2024
END:VEVENT
END:VCALENDAR
