BEGIN:VCALENDAR
VERSION:2.0
PRODID:-//pretix//pretix.eu//
BEGIN:VTIMEZONE
TZID:Europe/Berlin
BEGIN:STANDARD
DTSTART:20001029T040000
RRULE:FREQ=YEARLY;BYDAY=-1SU;BYMONTH=10
TZNAME:CET
TZOFFSETFROM:+0200
TZOFFSETTO:+0100
END:STANDARD
BEGIN:DAYLIGHT
DTSTART:20000326T030000
RRULE:FREQ=YEARLY;BYDAY=-1SU;BYMONTH=3
TZNAME:CEST
TZOFFSETFROM:+0100
TZOFFSETTO:+0200
END:DAYLIGHT
END:VTIMEZONE
BEGIN:VEVENT
UID:pretix-plainschwarz-beammeetup-0@tickets.plainschwarz.com
DTSTART;TZID=Europe/Berlin:20210317T170000
DTEND;TZID=Europe/Berlin:20210317T190000
DESCRIPTION:Tickets: https://tickets.plainschwarz.com/beammeetup/\nOrganize
 r: Plain Schwarz
DTSTAMP:20260422T212819Z
SUMMARY:Apache Beam Meetup with Emily Ye
END:VEVENT
END:VCALENDAR
