BEGIN:VCALENDAR
VERSION:2.0
PRODID:-//pretix//pretix.eu//
BEGIN:VEVENT
UID:pretix-plainschwarz-matrixconf2024-0@tickets.plainschwarz.com
DTSTART;VALUE=DATE:20240919
DTEND;VALUE=DATE:20240923
DESCRIPTION:Tickets: https://tickets.plainschwarz.com/matrixconf2024/\nOrga
 nizer: Plain Schwarz
DTSTAMP:20260425T002624Z
LOCATION:Mitosis LAB\, Sonnenallee 67\, 12045 Berlin
SUMMARY:Matrix Conference 2024
END:VEVENT
END:VCALENDAR
